BEGIN:VCALENDAR
VERSION:2.0
PRODID:-//Library Market//iCal Export//EN
BEGIN:VEVENT
SUMMARY:Video Game Discussion Group
UID:2426
DTSTAMP:20260421T050400Z
DTSTART:20260718T183000Z
DTEND:20260718T193000Z
LOCATION:2762 Frankfort Avenue, Louisville, KY 40206, United States
ROOM: Crescent Hill - Meeting Room
DESCRIPTION:Curious about the history of some of your favorite games (and 
 some you’ve never played)? In the Video Game Discussion Group, you’ll 
 get to play, discuss, and learn all about a specific game each month. This
  month we will discuss Super Mario 64.
URL:https://events.lfpl.org/event/video-game-discussion-group-2426
END:VEVENT
END:VCALENDAR
