BEGIN:VCALENDAR
VERSION:2.0
PRODID:-//Library Market//iCal Export//EN
BEGIN:VEVENT
SUMMARY:Toddler Art + Play
UID:2567
DTSTAMP:20260420T235200Z
DTSTART:20260813T140000Z
DTEND:20260813T150000Z
LOCATION:2762 Frankfort Avenue, Louisville, KY 40206, United States
ROOM: Crescent Hill - Meeting Room
DESCRIPTION:Make art, play, and socialize. For ages 2-3. 
URL:https://events.lfpl.org/event/toddler-art-play-2567
END:VEVENT
END:VCALENDAR
