BEGIN:VCALENDAR
VERSION:2.0
PRODID:-//Library Market//iCal Export//EN
BEGIN:VEVENT
SUMMARY:Hand Embroider a Bookmark
UID:2894
DTSTAMP:20260419T224500Z
DTSTART:20260725T140000Z
DTEND:20260725T150000Z
LOCATION:2816 Del Rio Place, Louisville, KY 40220, United States
ROOM: Bon Air - Meeting Room
DESCRIPTION:Learn to stitch a custom bookmark for yourself or a gift. Stud
 ents will master up to six hand embroidery stitches with the expert help o
 f members from the Louisville chapter of Embroiderers Guild of America. Pl
 an to finish at least one bookmark in class and take home supplies for add
 itional pieces, as well as a surface embroidery stitch guide and suggested
  resources. EGA is committed to sustaining the art of needlework through 
 education and outreach; visit  www.ega-usa.org  to learn more. Age: Adul
 ts. Limit 20. Registration required. 
URL:https://events.lfpl.org/event/embroidery-adults-2894
END:VEVENT
END:VCALENDAR
