BEGIN:VCALENDAR
VERSION:2.0
PRODID:-//Library Market//iCal Export//EN
BEGIN:VEVENT
SUMMARY:Administrators Meeting
UID:2900
DTSTAMP:20260419T132800Z
DTSTART:20260601T130000Z
DTEND:20260601T190000Z
LOCATION:10620 West Manslick Road, Louisville, KY 40118, United States
ROOM: Fairdale - Meeting Room
DESCRIPTION:Need a space for school administrators to build leadership cap
 acities and improve systems to better student outcomes since we are a impr
 ovement priority school.
URL:https://events.lfpl.org/event/marion-c-moore-school-2900
END:VEVENT
END:VCALENDAR
