BEGIN:VCALENDAR
VERSION:2.0
PRODID:-//Library Market//iCal Export//EN
BEGIN:VEVENT
SUMMARY:Home Owners Association Meeting
UID:2905
DTSTAMP:20260419T132800Z
DTSTART:20260603T220000Z
DTEND:20260603T233000Z
LOCATION:10620 West Manslick Road, Louisville, KY 40118, United States
ROOM: Fairdale - Meeting Room
DESCRIPTION:Annual HOA
URL:https://events.lfpl.org/event/home-owners-association-meeting-2905
END:VEVENT
END:VCALENDAR
