BEGIN:VCALENDAR
VERSION:2.0
PRODID:-//Library Market//iCal Export//EN
BEGIN:VEVENT
SUMMARY:Louisville Photographic Society - Meet the Artists
UID:2943
DTSTAMP:20260420T051000Z
DTSTART:20260905T180000Z
DTEND:20260905T200000Z
LOCATION:2816 Del Rio Place, Louisville, KY 40220, United States
ROOM: Bon Air - Meeting Room
DESCRIPTION:Meet the artists from the Louisville Photographic Society who 
 have their work in Bon Air Library&#039;s window display at the front entr
 ance.
URL:https://events.lfpl.org/event/louisville-photographic-society-meet-art
 ists-2943
END:VEVENT
END:VCALENDAR
