BEGIN:VCALENDAR
VERSION:2.0
PRODID:-//Library Market//iCal Export//EN
BEGIN:VEVENT
SUMMARY:Meet the Beat Cop
UID:2989
DTSTAMP:20260421T205400Z
DTSTART:20260511T203000Z
DTEND:20260511T213000Z
LOCATION:2816 Del Rio Place, Louisville, KY 40220, United States
ROOM: Bon Air - Meeting Room
DESCRIPTION:Meet the beat cop.
URL:https://events.lfpl.org/event/meet-beat-cop-2989
END:VEVENT
END:VCALENDAR
