BEGIN:VCALENDAR
VERSION:2.0
PRODID:-//Library Market//iCal Export//EN
BEGIN:VEVENT
SUMMARY:Bon Air Neighborhood Association (BANA)
UID:3028
DTSTAMP:20260421T050400Z
DTSTART:20260713T223000Z
DTEND:20260713T233000Z
LOCATION:2816 Del Rio Place, Louisville, KY 40220, United States
ROOM: Bon Air - Meeting Room
DESCRIPTION:Neighborhood Association General Meeting
URL:https://events.lfpl.org/event/bon-air-neighborhood-association-bana-30
 28
END:VEVENT
END:VCALENDAR
