BEGIN:VCALENDAR
VERSION:2.0
PRODID:-//Library Market//iCal Export//EN
BEGIN:VEVENT
SUMMARY:Louisville Sacred Harp
UID:3029
DTSTAMP:20260421T205400Z
DTSTART:20260512T220000Z
DTEND:20260512T233000Z
LOCATION:2816 Del Rio Place, Louisville, KY 40220, United States
ROOM: Bon Air - Meeting Room
DESCRIPTION:Sing shape note music together and sometimes we have snacks
URL:https://events.lfpl.org/event/louisville-sacred-harp-3029
END:VEVENT
END:VCALENDAR
