BEGIN:VCALENDAR
VERSION:2.0
PRODID:-//Library Market//iCal Export//EN
BEGIN:VEVENT
SUMMARY:&quot;Get Busy With Chozen&quot; Mind Over Money
UID:3056
DTSTAMP:20260421T205400Z
DTSTART:20260513T193000Z
DTEND:20260513T210000Z
LOCATION:4800 Exeter Avenue, Louisville, KY 40118, United States
ROOM: Newburg - Meeting Room
DESCRIPTION:Meeting space for youth program lead by Martisha Bell the prog
 ram director. Topic is financial literacy and mental health. Youth meet ev
 ery Wednesday for &quot;Mind Over Money Workshop.&quot;
URL:https://events.lfpl.org/event/get-busy-chozen-mind-over-money-3056
END:VEVENT
END:VCALENDAR
