BEGIN:VCALENDAR
VERSION:2.0
PRODID:-//Library Market//iCal Export//EN
BEGIN:VEVENT
SUMMARY:Gatewood Homemakers
UID:3104
DTSTAMP:20260421T205400Z
DTSTART:20260514T140000Z
DTEND:20260514T160000Z
LOCATION:2816 Del Rio Place, Louisville, KY 40220, United States
ROOM: Bon Air - Meeting Room
DESCRIPTION:Leader lesson and meeting plan
URL:https://events.lfpl.org/event/gatewood-homemakers-3104
END:VEVENT
END:VCALENDAR
