BEGIN:VCALENDAR
VERSION:2.0
PRODID:-//Library Market//iCal Export//EN
BEGIN:VEVENT
SUMMARY:Really Really Free Market Louisville
UID:3108
DTSTAMP:20260421T205400Z
DTSTART:20260523T170000Z
DTEND:20260523T200000Z
LOCATION:2816 Del Rio Place, Louisville, KY 40220, United States
ROOM: Bon Air - Meeting Room
DESCRIPTION:To freely exchange items and to build community
URL:https://events.lfpl.org/event/really-really-free-market-louisville-310
 8
END:VEVENT
END:VCALENDAR
