BEGIN:VCALENDAR
VERSION:2.0
PRODID:-//Library Market//iCal Export//EN
BEGIN:VEVENT
SUMMARY:LouMetroGov PubHealth&amp;Well WIC Breastfeeding Support
UID:3129
DTSTAMP:20260421T222600Z
DTSTART:20260613T140000Z
DTEND:20260613T160000Z
LOCATION:2816 Del Rio Place, Louisville, KY 40220, United States
ROOM: Bon Air - Meeting Room
DESCRIPTION:This would be a breastfeeding support group. Welcome to all pr
 egnant or breastfeeding women and their support persons.
URL:https://events.lfpl.org/event/loumetrogov-pubhealthwell-wic-breastfeed
 ing-support-3129
END:VEVENT
END:VCALENDAR
