BEGIN:VCALENDAR
VERSION:2.0
PRODID:-//Library Market//iCal Export//EN
BEGIN:VEVENT
SUMMARY:Really Really Free Market Louisville
UID:3134
DTSTAMP:20260422T000500Z
DTSTART:20260725T163000Z
DTEND:20260725T203000Z
LOCATION:2816 Del Rio Place, Louisville, KY 40220, United States
ROOM: Bon Air - Meeting Room
DESCRIPTION:To freely exchange items and to build community
URL:https://events.lfpl.org/event/really-really-free-market-louisville-313
 4
END:VEVENT
END:VCALENDAR
