BEGIN:VCALENDAR
VERSION:2.0
PRODID:-//Library Market//iCal Export//EN
BEGIN:VEVENT
SUMMARY:Mindful Movement
UID:3163
DTSTAMP:20260422T012800Z
DTSTART:20260817T143000Z
DTEND:20260817T151500Z
LOCATION:10635 Watterson Trail, Louisville, KY 40299, United States
ROOM: Jeffersontown - Meeting Room
DESCRIPTION:Certified Yoga instructor Shana Schack will lead a 45 minute c
 hair yoga session.  No registration required.  
URL:https://events.lfpl.org/event/mindful-movement-3163
END:VEVENT
END:VCALENDAR
