BEGIN:VCALENDAR
VERSION:2.0
PRODID:-//Library Market//iCal Export//EN
BEGIN:VEVENT
SUMMARY:Jeffersontown Friends Meeting
UID:3168
DTSTAMP:20260422T111800Z
DTSTART:20260708T143000Z
DTEND:20260708T160000Z
LOCATION:10635 Watterson Trail, Louisville, KY 40299, United States
ROOM: Jeffersontown - Meeting Room
DESCRIPTION:Attend our Jeffersontown Friends of the Library to learn about
  ways you can help support the Library.
URL:https://events.lfpl.org/event/jeffersontown-friends-meeting-3168
END:VEVENT
END:VCALENDAR
